BEGIN:VCALENDAR
VERSION:2.0
PRODID:-//Slice of Health - ECPv6.9.0//NONSGML v1.0//EN
CALSCALE:GREGORIAN
METHOD:PUBLISH
X-WR-CALNAME:Slice of Health
X-ORIGINAL-URL:https://www.sliceofhealth.in
X-WR-CALDESC:Events for Slice of Health
REFRESH-INTERVAL;VALUE=DURATION:PT1H
X-Robots-Tag:noindex
X-PUBLISHED-TTL:PT1H
BEGIN:VTIMEZONE
TZID:Asia/Kolkata
BEGIN:STANDARD
TZOFFSETFROM:+0530
TZOFFSETTO:+0530
TZNAME:IST
DTSTART:20160101T000000
END:STANDARD
END:VTIMEZONE
BEGIN:VEVENT
DTSTART;VALUE=DATE:20161212
DTEND;VALUE=DATE:20161213
DTSTAMP:20260424T035650
CREATED:20151229T062515Z
LAST-MODIFIED:20151229T062515Z
UID:2701-1481500800-1481587199@www.sliceofhealth.in
SUMMARY:Universal Health Coverage Day
DESCRIPTION:
URL:https://www.sliceofhealth.in/event/universal-health-coverage-day-2/
END:VEVENT
BEGIN:VEVENT
DTSTART;VALUE=DATE:20161201
DTEND;VALUE=DATE:20161202
DTSTAMP:20260424T035650
CREATED:20151229T062344Z
LAST-MODIFIED:20151229T062344Z
UID:2700-1480550400-1480636799@www.sliceofhealth.in
SUMMARY:World AIDS Day
DESCRIPTION:
URL:https://www.sliceofhealth.in/event/world-aids-day-4/
END:VEVENT
BEGIN:VEVENT
DTSTART;VALUE=DATE:20161114
DTEND;VALUE=DATE:20161115
DTSTAMP:20260424T035650
CREATED:20151229T060558Z
LAST-MODIFIED:20151229T060558Z
UID:2698-1479081600-1479167999@www.sliceofhealth.in
SUMMARY:World Diabetes Day
DESCRIPTION:
URL:https://www.sliceofhealth.in/event/world-diabetes-day-2/
END:VEVENT
BEGIN:VEVENT
DTSTART;VALUE=DATE:20161112
DTEND;VALUE=DATE:20161113
DTSTAMP:20260424T035650
CREATED:20151229T060459Z
LAST-MODIFIED:20151229T060459Z
UID:2697-1478908800-1478995199@www.sliceofhealth.in
SUMMARY:World Pneumonia Day
DESCRIPTION:
URL:https://www.sliceofhealth.in/event/world-pneumonia-day-2/
END:VEVENT
BEGIN:VEVENT
DTSTART;VALUE=DATE:20161026
DTEND;VALUE=DATE:20161027
DTSTAMP:20260424T035650
CREATED:20151229T060314Z
LAST-MODIFIED:20151229T060314Z
UID:2696-1477440000-1477526399@www.sliceofhealth.in
SUMMARY:World Obesity Day
DESCRIPTION:
URL:https://www.sliceofhealth.in/event/world-obesity-day-2/
END:VEVENT
BEGIN:VEVENT
DTSTART;VALUE=DATE:20161024
DTEND;VALUE=DATE:20161025
DTSTAMP:20260424T035650
CREATED:20151229T060049Z
LAST-MODIFIED:20151229T060049Z
UID:2695-1477267200-1477353599@www.sliceofhealth.in
SUMMARY:World Polio Day
DESCRIPTION:
URL:https://www.sliceofhealth.in/event/world-polio-day-2/
END:VEVENT
BEGIN:VEVENT
DTSTART;VALUE=DATE:20161021
DTEND;VALUE=DATE:20161022
DTSTAMP:20260424T035650
CREATED:20151229T055909Z
LAST-MODIFIED:20151229T055909Z
UID:2694-1477008000-1477094399@www.sliceofhealth.in
SUMMARY:World Iodine Deficiency Day
DESCRIPTION:
URL:https://www.sliceofhealth.in/event/world-iodine-deficiency-day-2/
END:VEVENT
BEGIN:VEVENT
DTSTART;VALUE=DATE:20161020
DTEND;VALUE=DATE:20161021
DTSTAMP:20260424T035650
CREATED:20151229T055627Z
LAST-MODIFIED:20151229T055627Z
UID:2693-1476921600-1477007999@www.sliceofhealth.in
SUMMARY:World Osteoporosis Day
DESCRIPTION:
URL:https://www.sliceofhealth.in/event/world-osteoporosis-day-2/
END:VEVENT
BEGIN:VEVENT
DTSTART;VALUE=DATE:20161017
DTEND;VALUE=DATE:20161018
DTSTAMP:20260424T035650
CREATED:20151229T055521Z
LAST-MODIFIED:20151229T055521Z
UID:2692-1476662400-1476748799@www.sliceofhealth.in
SUMMARY:World Trauma Day
DESCRIPTION:
URL:https://www.sliceofhealth.in/event/world-trauma-day-2/
END:VEVENT
BEGIN:VEVENT
DTSTART;VALUE=DATE:20161016
DTEND;VALUE=DATE:20161017
DTSTAMP:20260424T035650
CREATED:20151229T055145Z
LAST-MODIFIED:20151229T055145Z
UID:2691-1476576000-1476662399@www.sliceofhealth.in
SUMMARY:World Food Day
DESCRIPTION:
URL:https://www.sliceofhealth.in/event/world-food-day-2/
END:VEVENT
BEGIN:VEVENT
DTSTART;VALUE=DATE:20161015
DTEND;VALUE=DATE:20161016
DTSTAMP:20260424T035650
CREATED:20151229T054932Z
LAST-MODIFIED:20151229T054932Z
UID:2690-1476489600-1476575999@www.sliceofhealth.in
SUMMARY:Global Handwashing Day
DESCRIPTION:
URL:https://www.sliceofhealth.in/event/global-handwashing-day-2/
END:VEVENT
BEGIN:VEVENT
DTSTART;VALUE=DATE:20161013
DTEND;VALUE=DATE:20161014
DTSTAMP:20260424T035650
CREATED:20151229T054448Z
LAST-MODIFIED:20151229T054448Z
UID:2687-1476316800-1476403199@www.sliceofhealth.in
SUMMARY:World Sight Day
DESCRIPTION:
URL:https://www.sliceofhealth.in/event/world-sight-day-2/
END:VEVENT
BEGIN:VEVENT
DTSTART;VALUE=DATE:20161012
DTEND;VALUE=DATE:20161013
DTSTAMP:20260424T035650
CREATED:20151229T054831Z
LAST-MODIFIED:20151229T054831Z
UID:2689-1476230400-1476316799@www.sliceofhealth.in
SUMMARY:World Arthritis Day
DESCRIPTION:
URL:https://www.sliceofhealth.in/event/world-arthritis-day-2/
END:VEVENT
BEGIN:VEVENT
DTSTART;VALUE=DATE:20161010
DTEND;VALUE=DATE:20161011
DTSTAMP:20260424T035650
CREATED:20151229T054533Z
LAST-MODIFIED:20151229T054533Z
UID:2688-1476057600-1476143999@www.sliceofhealth.in
SUMMARY:World Mental Health Day
DESCRIPTION:
URL:https://www.sliceofhealth.in/event/world-mental-health-day-2/
END:VEVENT
BEGIN:VEVENT
DTSTART;TZID=Asia/Kolkata:20161001T080000
DTEND;TZID=Asia/Kolkata:20161031T170000
DTSTAMP:20260424T035650
CREATED:20151229T053748Z
LAST-MODIFIED:20151229T053748Z
UID:2684-1475308800-1477933200@www.sliceofhealth.in
SUMMARY:Breast Cancer Awareness Month
DESCRIPTION:
URL:https://www.sliceofhealth.in/event/breast-cancer-awareness-month-2/
END:VEVENT
BEGIN:VEVENT
DTSTART;VALUE=DATE:20161001
DTEND;VALUE=DATE:20161002
DTSTAMP:20260424T035650
CREATED:20151229T053902Z
LAST-MODIFIED:20151229T053902Z
UID:2686-1475280000-1475366399@www.sliceofhealth.in
SUMMARY:World Vegetarian Day
DESCRIPTION:
URL:https://www.sliceofhealth.in/event/world-vegetarian-day-2/
END:VEVENT
BEGIN:VEVENT
DTSTART;VALUE=DATE:20161001
DTEND;VALUE=DATE:20161002
DTSTAMP:20260424T035650
CREATED:20151229T053834Z
LAST-MODIFIED:20151229T053834Z
UID:2685-1475280000-1475366399@www.sliceofhealth.in
SUMMARY:International Day for the Elderly
DESCRIPTION:
URL:https://www.sliceofhealth.in/event/international-day-for-the-elderly-2/
END:VEVENT
BEGIN:VEVENT
DTSTART;VALUE=DATE:20160929
DTEND;VALUE=DATE:20160930
DTSTAMP:20260424T035650
CREATED:20151229T053249Z
LAST-MODIFIED:20151229T053249Z
UID:2683-1475107200-1475193599@www.sliceofhealth.in
SUMMARY:World Heart Day
DESCRIPTION:
URL:https://www.sliceofhealth.in/event/world-heart-day-3/
END:VEVENT
BEGIN:VEVENT
DTSTART;VALUE=DATE:20160921
DTEND;VALUE=DATE:20160922
DTSTAMP:20260424T035650
CREATED:20151229T051422Z
LAST-MODIFIED:20151229T051422Z
UID:2681-1474416000-1474502399@www.sliceofhealth.in
SUMMARY:World Alzheimer’s Day
DESCRIPTION:
URL:https://www.sliceofhealth.in/event/world-alzheimers-day-3/
END:VEVENT
BEGIN:VEVENT
DTSTART;TZID=Asia/Kolkata:20160901T080000
DTEND;TZID=Asia/Kolkata:20160907T170000
DTSTAMP:20260424T035650
CREATED:20151229T051329Z
LAST-MODIFIED:20151229T051329Z
UID:2680-1472716800-1473267600@www.sliceofhealth.in
SUMMARY:National Nutrition week
DESCRIPTION:
URL:https://www.sliceofhealth.in/event/national-nutrition-week-2/
END:VEVENT
BEGIN:VEVENT
DTSTART;TZID=Asia/Kolkata:20160828T080000
DTEND;TZID=Asia/Kolkata:20160908T170000
DTSTAMP:20260424T035650
CREATED:20151229T050908Z
LAST-MODIFIED:20151229T050908Z
UID:2679-1472371200-1473354000@www.sliceofhealth.in
SUMMARY:National Eye Donation Fortnight
DESCRIPTION:
URL:https://www.sliceofhealth.in/event/national-eye-donation-fortnight/
END:VEVENT
BEGIN:VEVENT
DTSTART;TZID=Asia/Kolkata:20160801T080000
DTEND;TZID=Asia/Kolkata:20160807T170000
DTSTAMP:20260424T035650
CREATED:20151229T050353Z
LAST-MODIFIED:20151229T050353Z
UID:2678-1470038400-1470589200@www.sliceofhealth.in
SUMMARY:World Breast Feeding Week
DESCRIPTION:
URL:https://www.sliceofhealth.in/event/world-breast-feeding-week-2/
END:VEVENT
BEGIN:VEVENT
DTSTART;VALUE=DATE:20160728
DTEND;VALUE=DATE:20160729
DTSTAMP:20260424T035650
CREATED:20151229T050231Z
LAST-MODIFIED:20151229T050231Z
UID:2677-1469664000-1469750399@www.sliceofhealth.in
SUMMARY:World Hepatitis Day
DESCRIPTION:The theme for this year’s World Hepatitis Day is “Prevent hepatitis. Act now”.
URL:https://www.sliceofhealth.in/event/world-hepatitis-day-3/
END:VEVENT
BEGIN:VEVENT
DTSTART;VALUE=DATE:20160701
DTEND;VALUE=DATE:20160702
DTSTAMP:20260424T035650
CREATED:20151229T050054Z
LAST-MODIFIED:20151229T050054Z
UID:2676-1467331200-1467417599@www.sliceofhealth.in
SUMMARY:National Doctors Day
DESCRIPTION:
URL:https://www.sliceofhealth.in/event/national-doctors-day/
END:VEVENT
BEGIN:VEVENT
DTSTART;VALUE=DATE:20160614
DTEND;VALUE=DATE:20160615
DTSTAMP:20260424T035650
CREATED:20151229T045532Z
LAST-MODIFIED:20151229T045532Z
UID:2675-1465862400-1465948799@www.sliceofhealth.in
SUMMARY:World Blood Donor Day
DESCRIPTION:
URL:https://www.sliceofhealth.in/event/world-blood-donor-day-3/
END:VEVENT
BEGIN:VEVENT
DTSTART;VALUE=DATE:20160608
DTEND;VALUE=DATE:20160609
DTSTAMP:20260424T035650
CREATED:20151229T045439Z
LAST-MODIFIED:20151229T045439Z
UID:2674-1465344000-1465430399@www.sliceofhealth.in
SUMMARY:World Brain Tumor Day
DESCRIPTION:
URL:https://www.sliceofhealth.in/event/world-brain-tumor-day/
END:VEVENT
BEGIN:VEVENT
DTSTART;VALUE=DATE:20160531
DTEND;VALUE=DATE:20160601
DTSTAMP:20260424T035650
CREATED:20151229T045021Z
LAST-MODIFIED:20151229T045049Z
UID:2673-1464652800-1464739199@www.sliceofhealth.in
SUMMARY:World no tobacco Day
DESCRIPTION:World No Tobacco Day to draw attention to the health problems that tobacco use can cause.
URL:https://www.sliceofhealth.in/event/world-no-tobacco-day-3/
END:VEVENT
BEGIN:VEVENT
DTSTART;VALUE=DATE:20160528
DTEND;VALUE=DATE:20160529
DTSTAMP:20260424T035650
CREATED:20151229T044357Z
LAST-MODIFIED:20151229T044357Z
UID:2672-1464393600-1464479999@www.sliceofhealth.in
SUMMARY:International Womens Health Day
DESCRIPTION:
URL:https://www.sliceofhealth.in/event/international-womens-health-day/
END:VEVENT
BEGIN:VEVENT
DTSTART;VALUE=DATE:20160512
DTEND;VALUE=DATE:20160513
DTSTAMP:20260424T035650
CREATED:20151229T044149Z
LAST-MODIFIED:20151229T044149Z
UID:2671-1463011200-1463097599@www.sliceofhealth.in
SUMMARY:World Chronic Fatigue Syndrome Awareness Day
DESCRIPTION:The aim of the day is to spread awareness about this medical condition and its causes\, symptoms and cure.
URL:https://www.sliceofhealth.in/event/world-chronic-fatigue-syndrome-awareness-day/
END:VEVENT
BEGIN:VEVENT
DTSTART;VALUE=DATE:20160508
DTEND;VALUE=DATE:20160509
DTSTAMP:20260424T035650
CREATED:20151229T041532Z
LAST-MODIFIED:20151229T041532Z
UID:2670-1462665600-1462751999@www.sliceofhealth.in
SUMMARY:World Thalassaemia Day
DESCRIPTION:
URL:https://www.sliceofhealth.in/event/world-thalassaemia-day/
END:VEVENT
END:VCALENDAR