BEGIN:VCALENDAR
VERSION:2.0
PRODID:-//Slice of Health - ECPv6.9.0//NONSGML v1.0//EN
CALSCALE:GREGORIAN
METHOD:PUBLISH
X-WR-CALNAME:Slice of Health
X-ORIGINAL-URL:https://www.sliceofhealth.in
X-WR-CALDESC:Events for Slice of Health
REFRESH-INTERVAL;VALUE=DURATION:PT1H
X-Robots-Tag:noindex
X-PUBLISHED-TTL:PT1H
BEGIN:VTIMEZONE
TZID:Asia/Kolkata
BEGIN:STANDARD
TZOFFSETFROM:+0530
TZOFFSETTO:+0530
TZNAME:IST
DTSTART:20140101T000000
END:STANDARD
END:VTIMEZONE
BEGIN:VEVENT
DTSTART;VALUE=DATE:20140911
DTEND;VALUE=DATE:20140912
DTSTAMP:20260425T195318
CREATED:20140909T051401Z
LAST-MODIFIED:20140909T051401Z
UID:422-1410393600-1410479999@www.sliceofhealth.in
SUMMARY:Slice Of Health Radio Show
DESCRIPTION:Cholesterol is both our friend and foe – at normal levels\, it is an essential substance for the body’s normal functioning\, but if levels in the blood get too high\, it becomes a silent danger that puts us at risk. Tune into this week’s Slice of Health radio show on 11th September between 9- 10am to understand what causes high Cholesterol and how you can control your diet to stay fit
URL:https://www.sliceofhealth.in/event/slice-of-health-radio-show-5/
END:VEVENT
BEGIN:VEVENT
DTSTART;VALUE=DATE:20140728
DTEND;VALUE=DATE:20140729
DTSTAMP:20260425T195318
CREATED:20140529T013007Z
LAST-MODIFIED:20140529T013007Z
UID:153-1406505600-1406591999@www.sliceofhealth.in
SUMMARY:World Hepatitis Day
DESCRIPTION:World Hepatitis Day
URL:https://www.sliceofhealth.in/event/world-hepatitis-day/
END:VEVENT
BEGIN:VEVENT
DTSTART;VALUE=DATE:20140701
DTEND;VALUE=DATE:20140702
DTSTAMP:20260425T195318
CREATED:20140701T070746Z
LAST-MODIFIED:20140701T070746Z
UID:248-1404172800-1404259199@www.sliceofhealth.in
SUMMARY:Happy Doctor's Day
DESCRIPTION:On the birth date of the great Bidhan Chandra Roy\, We would like to wish all the docs a very Happy Doctor’s Day. #DoctorsDay
URL:https://www.sliceofhealth.in/event/happy-doctors-day/
END:VEVENT
BEGIN:VEVENT
DTSTART;VALUE=DATE:20140626
DTEND;VALUE=DATE:20140627
DTSTAMP:20260425T195318
CREATED:20140529T230925Z
LAST-MODIFIED:20140623T093442Z
UID:164-1403740800-1403827199@www.sliceofhealth.in
SUMMARY:Slice Of Health Radio Show
DESCRIPTION:Slice Of Health Radio Show- The Right Diet- Balancing between Veg and Non Veg food. 
URL:https://www.sliceofhealth.in/event/slice-of-health-radio-show-4/
END:VEVENT
BEGIN:VEVENT
DTSTART;VALUE=DATE:20140619
DTEND;VALUE=DATE:20140620
DTSTAMP:20260425T195318
CREATED:20140529T230846Z
LAST-MODIFIED:20140529T230846Z
UID:163-1403136000-1403222399@www.sliceofhealth.in
SUMMARY:Slice Of Health Radio Show
DESCRIPTION:Slice Of Health Radio Show
URL:https://www.sliceofhealth.in/event/slice-of-health-radio-show-3/
END:VEVENT
BEGIN:VEVENT
DTSTART;VALUE=DATE:20140619
DTEND;VALUE=DATE:20140620
DTSTAMP:20260425T195318
CREATED:20140529T013051Z
LAST-MODIFIED:20140529T013051Z
UID:154-1403136000-1403222399@www.sliceofhealth.in
SUMMARY:World Sickle Cell Day
DESCRIPTION:World Sickle Cell Day
URL:https://www.sliceofhealth.in/event/world-sickle-cell-day/
END:VEVENT
BEGIN:VEVENT
DTSTART;VALUE=DATE:20140614
DTEND;VALUE=DATE:20140615
DTSTAMP:20260425T195318
CREATED:20140529T012928Z
LAST-MODIFIED:20140529T012928Z
UID:152-1402704000-1402790399@www.sliceofhealth.in
SUMMARY:World Blood Donor Day
DESCRIPTION:World Blood Donor Day
URL:https://www.sliceofhealth.in/event/world-blood-donor-day/
END:VEVENT
BEGIN:VEVENT
DTSTART;VALUE=DATE:20140612
DTEND;VALUE=DATE:20140613
DTSTAMP:20260425T195318
CREATED:20140529T230822Z
LAST-MODIFIED:20140529T230822Z
UID:162-1402531200-1402617599@www.sliceofhealth.in
SUMMARY:Slice Of Health Radio Show
DESCRIPTION:Slice Of Health Radio Show
URL:https://www.sliceofhealth.in/event/slice-of-health-radio-show-2/
END:VEVENT
BEGIN:VEVENT
DTSTART;VALUE=DATE:20140605
DTEND;VALUE=DATE:20140606
DTSTAMP:20260425T195318
CREATED:20140529T230758Z
LAST-MODIFIED:20140529T230758Z
UID:161-1401926400-1402012799@www.sliceofhealth.in
SUMMARY:Slice Of Health Radio Show
DESCRIPTION:Slice Of Health Radio Show
URL:https://www.sliceofhealth.in/event/slice-of-health-radio-show/
END:VEVENT
BEGIN:VEVENT
DTSTART;VALUE=DATE:20140605
DTEND;VALUE=DATE:20140606
DTSTAMP:20260425T195318
CREATED:20140529T230642Z
LAST-MODIFIED:20140529T230642Z
UID:160-1401926400-1402012799@www.sliceofhealth.in
SUMMARY:World Environment Day
DESCRIPTION:World Environment Day
URL:https://www.sliceofhealth.in/event/world-environment-day/
END:VEVENT
BEGIN:VEVENT
DTSTART;VALUE=DATE:20140531
DTEND;VALUE=DATE:20140601
DTSTAMP:20260425T195318
CREATED:20140527T045241Z
LAST-MODIFIED:20140527T045336Z
UID:146-1401494400-1401580799@www.sliceofhealth.in
SUMMARY:World No Tobacco Day
DESCRIPTION:
URL:https://www.sliceofhealth.in/event/world-no-tobacco-day/
END:VEVENT
END:VCALENDAR