BEGIN:VCALENDAR
VERSION:2.0
PRODID:-//Slice of Health - ECPv6.9.0//NONSGML v1.0//EN
CALSCALE:GREGORIAN
METHOD:PUBLISH
X-WR-CALNAME:Slice of Health
X-ORIGINAL-URL:https://www.sliceofhealth.in
X-WR-CALDESC:Events for Slice of Health
REFRESH-INTERVAL;VALUE=DURATION:PT1H
X-Robots-Tag:noindex
X-PUBLISHED-TTL:PT1H
BEGIN:VTIMEZONE
TZID:Asia/Kolkata
BEGIN:STANDARD
TZOFFSETFROM:+0530
TZOFFSETTO:+0530
TZNAME:IST
DTSTART:20150101T000000
END:STANDARD
END:VTIMEZONE
BEGIN:VEVENT
DTSTART;TZID=Asia/Kolkata:20160828T080000
DTEND;TZID=Asia/Kolkata:20160908T170000
DTSTAMP:20260424T051905
CREATED:20151229T050908Z
LAST-MODIFIED:20151229T050908Z
UID:2679-1472371200-1473354000@www.sliceofhealth.in
SUMMARY:National Eye Donation Fortnight
DESCRIPTION:
URL:https://www.sliceofhealth.in/event/national-eye-donation-fortnight/
END:VEVENT
BEGIN:VEVENT
DTSTART;TZID=Asia/Kolkata:20160801T080000
DTEND;TZID=Asia/Kolkata:20160807T170000
DTSTAMP:20260424T051905
CREATED:20151229T050353Z
LAST-MODIFIED:20151229T050353Z
UID:2678-1470038400-1470589200@www.sliceofhealth.in
SUMMARY:World Breast Feeding Week
DESCRIPTION:
URL:https://www.sliceofhealth.in/event/world-breast-feeding-week-2/
END:VEVENT
BEGIN:VEVENT
DTSTART;VALUE=DATE:20160728
DTEND;VALUE=DATE:20160729
DTSTAMP:20260424T051905
CREATED:20151229T050231Z
LAST-MODIFIED:20151229T050231Z
UID:2677-1469664000-1469750399@www.sliceofhealth.in
SUMMARY:World Hepatitis Day
DESCRIPTION:The theme for this year’s World Hepatitis Day is “Prevent hepatitis. Act now”.
URL:https://www.sliceofhealth.in/event/world-hepatitis-day-3/
END:VEVENT
BEGIN:VEVENT
DTSTART;VALUE=DATE:20160701
DTEND;VALUE=DATE:20160702
DTSTAMP:20260424T051905
CREATED:20151229T050054Z
LAST-MODIFIED:20151229T050054Z
UID:2676-1467331200-1467417599@www.sliceofhealth.in
SUMMARY:National Doctors Day
DESCRIPTION:
URL:https://www.sliceofhealth.in/event/national-doctors-day/
END:VEVENT
BEGIN:VEVENT
DTSTART;VALUE=DATE:20160614
DTEND;VALUE=DATE:20160615
DTSTAMP:20260424T051906
CREATED:20151229T045532Z
LAST-MODIFIED:20151229T045532Z
UID:2675-1465862400-1465948799@www.sliceofhealth.in
SUMMARY:World Blood Donor Day
DESCRIPTION:
URL:https://www.sliceofhealth.in/event/world-blood-donor-day-3/
END:VEVENT
BEGIN:VEVENT
DTSTART;VALUE=DATE:20160608
DTEND;VALUE=DATE:20160609
DTSTAMP:20260424T051906
CREATED:20151229T045439Z
LAST-MODIFIED:20151229T045439Z
UID:2674-1465344000-1465430399@www.sliceofhealth.in
SUMMARY:World Brain Tumor Day
DESCRIPTION:
URL:https://www.sliceofhealth.in/event/world-brain-tumor-day/
END:VEVENT
BEGIN:VEVENT
DTSTART;VALUE=DATE:20160531
DTEND;VALUE=DATE:20160601
DTSTAMP:20260424T051906
CREATED:20151229T045021Z
LAST-MODIFIED:20151229T045049Z
UID:2673-1464652800-1464739199@www.sliceofhealth.in
SUMMARY:World no tobacco Day
DESCRIPTION:World No Tobacco Day to draw attention to the health problems that tobacco use can cause.
URL:https://www.sliceofhealth.in/event/world-no-tobacco-day-3/
END:VEVENT
BEGIN:VEVENT
DTSTART;VALUE=DATE:20160528
DTEND;VALUE=DATE:20160529
DTSTAMP:20260424T051906
CREATED:20151229T044357Z
LAST-MODIFIED:20151229T044357Z
UID:2672-1464393600-1464479999@www.sliceofhealth.in
SUMMARY:International Womens Health Day
DESCRIPTION:
URL:https://www.sliceofhealth.in/event/international-womens-health-day/
END:VEVENT
BEGIN:VEVENT
DTSTART;VALUE=DATE:20160512
DTEND;VALUE=DATE:20160513
DTSTAMP:20260424T051906
CREATED:20151229T044149Z
LAST-MODIFIED:20151229T044149Z
UID:2671-1463011200-1463097599@www.sliceofhealth.in
SUMMARY:World Chronic Fatigue Syndrome Awareness Day
DESCRIPTION:The aim of the day is to spread awareness about this medical condition and its causes\, symptoms and cure.
URL:https://www.sliceofhealth.in/event/world-chronic-fatigue-syndrome-awareness-day/
END:VEVENT
BEGIN:VEVENT
DTSTART;VALUE=DATE:20160508
DTEND;VALUE=DATE:20160509
DTSTAMP:20260424T051906
CREATED:20151229T041532Z
LAST-MODIFIED:20151229T041532Z
UID:2670-1462665600-1462751999@www.sliceofhealth.in
SUMMARY:World Thalassaemia Day
DESCRIPTION:
URL:https://www.sliceofhealth.in/event/world-thalassaemia-day/
END:VEVENT
BEGIN:VEVENT
DTSTART;VALUE=DATE:20160503
DTEND;VALUE=DATE:20160504
DTSTAMP:20260424T051906
CREATED:20151228T152235Z
LAST-MODIFIED:20151228T152235Z
UID:2667-1462233600-1462319999@www.sliceofhealth.in
SUMMARY:World Asthma Day
DESCRIPTION:World Asthma Day is an annual event to improve asthma awareness and care around the world.
URL:https://www.sliceofhealth.in/event/world-asthma-day/
END:VEVENT
BEGIN:VEVENT
DTSTART;VALUE=DATE:20160425
DTEND;VALUE=DATE:20160426
DTSTAMP:20260424T051906
CREATED:20151228T124913Z
LAST-MODIFIED:20151228T124913Z
UID:2664-1461542400-1461628799@www.sliceofhealth.in
SUMMARY:World Malaria Day
DESCRIPTION:World Malaria Day is commemorated every year on 25 April and recognizes global efforts to control malaria.
URL:https://www.sliceofhealth.in/event/world-malaria-day-2/
END:VEVENT
BEGIN:VEVENT
DTSTART;TZID=Asia/Kolkata:20160424T080000
DTEND;TZID=Asia/Kolkata:20160430T170000
DTSTAMP:20260424T051906
CREATED:20151228T151817Z
LAST-MODIFIED:20151228T151817Z
UID:2666-1461484800-1462035600@www.sliceofhealth.in
SUMMARY:World Immunization Week
DESCRIPTION:The 2016 campaign stresses the need for immunization among adolescents and adults – throughout life.
URL:https://www.sliceofhealth.in/event/world-immunization-week-2/
END:VEVENT
BEGIN:VEVENT
DTSTART;VALUE=DATE:20160419
DTEND;VALUE=DATE:20160420
DTSTAMP:20260424T051906
CREATED:20151228T124756Z
LAST-MODIFIED:20151228T124756Z
UID:2663-1461024000-1461110399@www.sliceofhealth.in
SUMMARY:World Liver Day
DESCRIPTION:
URL:https://www.sliceofhealth.in/event/world-liver-day/
END:VEVENT
BEGIN:VEVENT
DTSTART;VALUE=DATE:20160417
DTEND;VALUE=DATE:20160418
DTSTAMP:20260424T051906
CREATED:20151228T124538Z
LAST-MODIFIED:20151228T124538Z
UID:2662-1460851200-1460937599@www.sliceofhealth.in
SUMMARY:World Haemophilia Day
DESCRIPTION:World Haemophilia Day is to raise awareness about hemophilia and other inherited bleeding disorders. Theme for the year 2016: Treatment for all is the vision of all
URL:https://www.sliceofhealth.in/event/world-haemophilia-day/
END:VEVENT
BEGIN:VEVENT
DTSTART;VALUE=DATE:20160407
DTEND;VALUE=DATE:20160408
DTSTAMP:20260424T051906
CREATED:20151228T124245Z
LAST-MODIFIED:20151228T124245Z
UID:2661-1459987200-1460073599@www.sliceofhealth.in
SUMMARY:World Health Day
DESCRIPTION:
URL:https://www.sliceofhealth.in/event/world-health-day/
END:VEVENT
BEGIN:VEVENT
DTSTART;VALUE=DATE:20160402
DTEND;VALUE=DATE:20160403
DTSTAMP:20260424T051906
CREATED:20151228T124010Z
LAST-MODIFIED:20151228T124010Z
UID:2660-1459555200-1459641599@www.sliceofhealth.in
SUMMARY:World Autism Awareness Day
DESCRIPTION:World Autism Awareness Day aims to increase people’s awareness about people\, especially children\, with autism.
URL:https://www.sliceofhealth.in/event/world-autism-awareness-day/
END:VEVENT
BEGIN:VEVENT
DTSTART;VALUE=DATE:20160324
DTEND;VALUE=DATE:20160325
DTSTAMP:20260424T051906
CREATED:20151228T123419Z
LAST-MODIFIED:20151228T123419Z
UID:2659-1458777600-1458863999@www.sliceofhealth.in
SUMMARY:World TB Day
DESCRIPTION:
URL:https://www.sliceofhealth.in/event/world-tb-day/
END:VEVENT
BEGIN:VEVENT
DTSTART;VALUE=DATE:20160321
DTEND;VALUE=DATE:20160322
DTSTAMP:20260424T051906
CREATED:20151228T123203Z
LAST-MODIFIED:20151228T123203Z
UID:2658-1458518400-1458518400@www.sliceofhealth.in
SUMMARY:World Down Syndrome Day
DESCRIPTION:
URL:https://www.sliceofhealth.in/event/world-down-syndrome-day/
END:VEVENT
BEGIN:VEVENT
DTSTART;VALUE=DATE:20160320
DTEND;VALUE=DATE:20160321
DTSTAMP:20260424T051906
CREATED:20151228T122959Z
LAST-MODIFIED:20151228T122959Z
UID:2657-1458432000-1458518399@www.sliceofhealth.in
SUMMARY:World Oral Health Day
DESCRIPTION:It is an international day to celebrate the benefits of a healthy mouth and to promote worldwide awareness of the issues around oral health and the importance of oral hygiene.
URL:https://www.sliceofhealth.in/event/world-oral-health-day/
END:VEVENT
BEGIN:VEVENT
DTSTART;VALUE=DATE:20160316
DTEND;VALUE=DATE:20160317
DTSTAMP:20260424T051906
CREATED:20151228T122412Z
LAST-MODIFIED:20151228T122412Z
UID:2656-1458086400-1458172799@www.sliceofhealth.in
SUMMARY:Measles Immunization Day
DESCRIPTION:
URL:https://www.sliceofhealth.in/event/measles-immunization-day/
END:VEVENT
BEGIN:VEVENT
DTSTART;VALUE=DATE:20160310
DTEND;VALUE=DATE:20160311
DTSTAMP:20260424T051906
CREATED:20151228T121934Z
LAST-MODIFIED:20151228T122229Z
UID:2655-1457568000-1457654399@www.sliceofhealth.in
SUMMARY:World Kidney Day
DESCRIPTION:Kidney Disease & Children. Act Early to Prevent It! – Theme
URL:https://www.sliceofhealth.in/event/world-kidney-day-2/
END:VEVENT
BEGIN:VEVENT
DTSTART;VALUE=DATE:20160309
DTEND;VALUE=DATE:20160310
DTSTAMP:20260424T051906
CREATED:20151228T120604Z
LAST-MODIFIED:20151228T120604Z
UID:2653-1457481600-1457567999@www.sliceofhealth.in
SUMMARY:No Smoking Day
DESCRIPTION:The main objective of the day is to spread awareness about the harmful health effects of tobacco consumption through cigarettes.
URL:https://www.sliceofhealth.in/event/no-smoking-day/
END:VEVENT
BEGIN:VEVENT
DTSTART;VALUE=DATE:20160308
DTEND;VALUE=DATE:20160309
DTSTAMP:20260424T051906
CREATED:20151228T120131Z
LAST-MODIFIED:20151228T120131Z
UID:2652-1457395200-1457481599@www.sliceofhealth.in
SUMMARY:International Women's Day
DESCRIPTION:
URL:https://www.sliceofhealth.in/event/international-womens-day/
END:VEVENT
BEGIN:VEVENT
DTSTART;TZID=Asia/Kolkata:20160306T080000
DTEND;TZID=Asia/Kolkata:20160312T170000
DTSTAMP:20260424T051906
CREATED:20151228T115849Z
LAST-MODIFIED:20151228T115849Z
UID:2651-1457251200-1457802000@www.sliceofhealth.in
SUMMARY:World Glaucoma Week
DESCRIPTION:World Glaucoma Week ( Fighting against glaucoma) 2016 will be March 6 – 12\, 2016!
URL:https://www.sliceofhealth.in/event/world-glaucoma-week/
END:VEVENT
BEGIN:VEVENT
DTSTART;VALUE=DATE:20160208
DTEND;VALUE=DATE:20160209
DTSTAMP:20260424T051906
CREATED:20151229T061920Z
LAST-MODIFIED:20151229T061920Z
UID:2699-1454889600-1454975999@www.sliceofhealth.in
SUMMARY:International Epilepsy Day
DESCRIPTION:
URL:https://www.sliceofhealth.in/event/international-epilepsy-day/
END:VEVENT
BEGIN:VEVENT
DTSTART;VALUE=DATE:20160204
DTEND;VALUE=DATE:20160205
DTSTAMP:20260424T051906
CREATED:20151228T111727Z
LAST-MODIFIED:20151228T111727Z
UID:2650-1454544000-1454630399@www.sliceofhealth.in
SUMMARY:World Cancer Day
DESCRIPTION:‘We can. I can.’\, World Cancer Day 2016-2018 will explore how everyone – as a collective or as individuals – can do their part to reduce cancer.
URL:https://www.sliceofhealth.in/event/world-cancer-day/
END:VEVENT
BEGIN:VEVENT
DTSTART;VALUE=DATE:20160130
DTEND;VALUE=DATE:20160131
DTSTAMP:20260424T051906
CREATED:20151228T104640Z
LAST-MODIFIED:20151228T104640Z
UID:2649-1454112000-1454198399@www.sliceofhealth.in
SUMMARY:World Leprosy Eradication Day
DESCRIPTION:
URL:https://www.sliceofhealth.in/event/world-leprosy-eradication-day/
END:VEVENT
BEGIN:VEVENT
DTSTART;VALUE=DATE:20151212
DTEND;VALUE=DATE:20151213
DTSTAMP:20260424T051906
CREATED:20150731T055905Z
LAST-MODIFIED:20150731T055905Z
UID:1521-1449878400-1449964799@www.sliceofhealth.in
SUMMARY:Universal Health Coverage Day
DESCRIPTION:
URL:https://www.sliceofhealth.in/event/universal-health-coverage-day/
END:VEVENT
BEGIN:VEVENT
DTSTART;VALUE=DATE:20151209
DTEND;VALUE=DATE:20151210
DTSTAMP:20260424T051906
CREATED:20150731T055838Z
LAST-MODIFIED:20150731T055838Z
UID:1520-1449619200-1449705599@www.sliceofhealth.in
SUMMARY:World Patient Safety Day
DESCRIPTION:
URL:https://www.sliceofhealth.in/event/world-patient-safety-day/
END:VEVENT
END:VCALENDAR