BEGIN:VCALENDAR
VERSION:2.0
PRODID:-//Slice of Health - ECPv6.9.0//NONSGML v1.0//EN
CALSCALE:GREGORIAN
METHOD:PUBLISH
X-WR-CALNAME:Slice of Health
X-ORIGINAL-URL:https://www.sliceofhealth.in
X-WR-CALDESC:Events for Slice of Health
REFRESH-INTERVAL;VALUE=DURATION:PT1H
X-Robots-Tag:noindex
X-PUBLISHED-TTL:PT1H
BEGIN:VTIMEZONE
TZID:Asia/Kolkata
BEGIN:STANDARD
TZOFFSETFROM:+0530
TZOFFSETTO:+0530
TZNAME:IST
DTSTART:20140101T000000
END:STANDARD
END:VTIMEZONE
BEGIN:VEVENT
DTSTART;VALUE=DATE:20151020
DTEND;VALUE=DATE:20151021
DTSTAMP:20260424T051839
CREATED:20150731T052110Z
LAST-MODIFIED:20150731T052110Z
UID:1505-1445299200-1445385599@www.sliceofhealth.in
SUMMARY:World Osteoporosis Day
DESCRIPTION:
URL:https://www.sliceofhealth.in/event/world-osteoporosis-day/
END:VEVENT
BEGIN:VEVENT
DTSTART;VALUE=DATE:20151017
DTEND;VALUE=DATE:20151018
DTSTAMP:20260424T051839
CREATED:20150730T123940Z
LAST-MODIFIED:20150730T123940Z
UID:1504-1445040000-1445126399@www.sliceofhealth.in
SUMMARY:World Trauma Day
DESCRIPTION:
URL:https://www.sliceofhealth.in/event/world-trauma-day/
END:VEVENT
BEGIN:VEVENT
DTSTART;VALUE=DATE:20151016
DTEND;VALUE=DATE:20151017
DTSTAMP:20260424T051839
CREATED:20150730T123826Z
LAST-MODIFIED:20150730T123826Z
UID:1503-1444953600-1445039999@www.sliceofhealth.in
SUMMARY:World Food Day
DESCRIPTION:
URL:https://www.sliceofhealth.in/event/world-food-day/
END:VEVENT
BEGIN:VEVENT
DTSTART;VALUE=DATE:20151015
DTEND;VALUE=DATE:20151016
DTSTAMP:20260424T051839
CREATED:20150730T123631Z
LAST-MODIFIED:20150730T123631Z
UID:1502-1444867200-1444953599@www.sliceofhealth.in
SUMMARY:Global Handwashing Day
DESCRIPTION:
URL:https://www.sliceofhealth.in/event/global-handwashing-day/
END:VEVENT
BEGIN:VEVENT
DTSTART;VALUE=DATE:20151012
DTEND;VALUE=DATE:20151013
DTSTAMP:20260424T051839
CREATED:20150730T123549Z
LAST-MODIFIED:20150730T123549Z
UID:1501-1444608000-1444694399@www.sliceofhealth.in
SUMMARY:World Arthritis Day
DESCRIPTION:
URL:https://www.sliceofhealth.in/event/world-arthritis-day/
END:VEVENT
BEGIN:VEVENT
DTSTART;VALUE=DATE:20151010
DTEND;VALUE=DATE:20151011
DTSTAMP:20260424T051839
CREATED:20150730T121132Z
LAST-MODIFIED:20150730T121132Z
UID:1499-1444435200-1444521599@www.sliceofhealth.in
SUMMARY:World Mental Health Day
DESCRIPTION:
URL:https://www.sliceofhealth.in/event/world-mental-health-day/
END:VEVENT
BEGIN:VEVENT
DTSTART;VALUE=DATE:20151009
DTEND;VALUE=DATE:20151010
DTSTAMP:20260424T051839
CREATED:20150730T121057Z
LAST-MODIFIED:20150730T121057Z
UID:1498-1444348800-1444435199@www.sliceofhealth.in
SUMMARY:World Sight Day
DESCRIPTION:
URL:https://www.sliceofhealth.in/event/world-sight-day/
END:VEVENT
BEGIN:VEVENT
DTSTART;VALUE=DATE:20151001
DTEND;VALUE=DATE:20151101
DTSTAMP:20260424T051839
CREATED:20150730T111807Z
LAST-MODIFIED:20150730T111807Z
UID:1495-1443657600-1446335999@www.sliceofhealth.in
SUMMARY:Breast Cancer Awareness Month
DESCRIPTION:
URL:https://www.sliceofhealth.in/event/breast-cancer-awareness-month/
END:VEVENT
BEGIN:VEVENT
DTSTART;VALUE=DATE:20151001
DTEND;VALUE=DATE:20151002
DTSTAMP:20260424T051839
CREATED:20150730T120959Z
LAST-MODIFIED:20150730T120959Z
UID:1497-1443657600-1443743999@www.sliceofhealth.in
SUMMARY:World Vegetarian Day
DESCRIPTION:
URL:https://www.sliceofhealth.in/event/world-vegetarian-day/
END:VEVENT
BEGIN:VEVENT
DTSTART;VALUE=DATE:20151001
DTEND;VALUE=DATE:20151002
DTSTAMP:20260424T051839
CREATED:20150730T120920Z
LAST-MODIFIED:20150730T120920Z
UID:1496-1443657600-1443743999@www.sliceofhealth.in
SUMMARY:International Day for the Elderly
DESCRIPTION:
URL:https://www.sliceofhealth.in/event/international-day-for-the-elderly/
END:VEVENT
BEGIN:VEVENT
DTSTART;VALUE=DATE:20150929
DTEND;VALUE=DATE:20150930
DTSTAMP:20260424T051839
CREATED:20150730T111339Z
LAST-MODIFIED:20150730T111339Z
UID:1494-1443484800-1443571199@www.sliceofhealth.in
SUMMARY:World Heart Day
DESCRIPTION:
URL:https://www.sliceofhealth.in/event/world-heart-day-2/
END:VEVENT
BEGIN:VEVENT
DTSTART;VALUE=DATE:20150928
DTEND;VALUE=DATE:20150929
DTSTAMP:20260424T051839
CREATED:20150730T110441Z
LAST-MODIFIED:20150730T110441Z
UID:1493-1443398400-1443484799@www.sliceofhealth.in
SUMMARY:World Rabies Day
DESCRIPTION:
URL:https://www.sliceofhealth.in/event/world-rabies-day/
END:VEVENT
BEGIN:VEVENT
DTSTART;VALUE=DATE:20150928
DTEND;VALUE=DATE:20150929
DTSTAMP:20260424T051839
CREATED:20150730T110147Z
LAST-MODIFIED:20150730T111101Z
UID:1492-1443398400-1443484799@www.sliceofhealth.in
SUMMARY:World Day of Deaf
DESCRIPTION:
URL:https://www.sliceofhealth.in/event/world-day-of-deaf/
END:VEVENT
BEGIN:VEVENT
DTSTART;VALUE=DATE:20150921
DTEND;VALUE=DATE:20150922
DTSTAMP:20260424T051839
CREATED:20150731T052220Z
LAST-MODIFIED:20150731T052220Z
UID:1506-1442793600-1442879999@www.sliceofhealth.in
SUMMARY:World Iodine Deficiency Day
DESCRIPTION:
URL:https://www.sliceofhealth.in/event/world-iodine-deficiency-day/
END:VEVENT
BEGIN:VEVENT
DTSTART;TZID=Asia/Kolkata:20150921T000000
DTEND;TZID=Asia/Kolkata:20150921T230000
DTSTAMP:20260424T051839
CREATED:20150730T105710Z
LAST-MODIFIED:20150730T105710Z
UID:1491-1442793600-1442876400@www.sliceofhealth.in
SUMMARY:World Alzheimer’s Day
DESCRIPTION:
URL:https://www.sliceofhealth.in/event/world-alzheimers-day-2/
END:VEVENT
BEGIN:VEVENT
DTSTART;VALUE=DATE:20150901
DTEND;VALUE=DATE:20150908
DTSTAMP:20260424T051839
CREATED:20150730T105623Z
LAST-MODIFIED:20150730T111158Z
UID:1490-1441065600-1441670399@www.sliceofhealth.in
SUMMARY:National Nutrition week
DESCRIPTION:
URL:https://www.sliceofhealth.in/event/national-nutrition-week/
END:VEVENT
BEGIN:VEVENT
DTSTART;TZID=Asia/Kolkata:20150828T080000
DTEND;TZID=Asia/Kolkata:20150908T170000
DTSTAMP:20260424T051839
CREATED:20150730T105523Z
LAST-MODIFIED:20150730T105523Z
UID:1489-1440748800-1441731600@www.sliceofhealth.in
SUMMARY:Eye Donation Fortnight
DESCRIPTION:
URL:https://www.sliceofhealth.in/event/eye-donation-fortnight/
END:VEVENT
BEGIN:VEVENT
DTSTART;TZID=Asia/Kolkata:20150801T080000
DTEND;TZID=Asia/Kolkata:20150807T230000
DTSTAMP:20260424T051839
CREATED:20150730T105400Z
LAST-MODIFIED:20150730T105400Z
UID:1487-1438416000-1438988400@www.sliceofhealth.in
SUMMARY:World Breast Feeding Week
DESCRIPTION:
URL:https://www.sliceofhealth.in/event/world-breast-feeding-week/
END:VEVENT
BEGIN:VEVENT
DTSTART;TZID=Asia/Kolkata:20150728T080000
DTEND;TZID=Asia/Kolkata:20150728T170000
DTSTAMP:20260424T051839
CREATED:20150423T070028Z
LAST-MODIFIED:20150423T070028Z
UID:1103-1438070400-1438102800@www.sliceofhealth.in
SUMMARY:World Hepatitis Day
DESCRIPTION:World Hepatitis Day\, observed on July 28 every year\, aims to raise global awareness of hepatitis — a group of infectious diseases known as Hepatitis A\, B\, C\, D\, and E — and encourage prevention\, diagnosis and treatment. \n  \n 
URL:https://www.sliceofhealth.in/event/world-hepatitis-day-2/
END:VEVENT
BEGIN:VEVENT
DTSTART;TZID=Asia/Kolkata:20150614T080000
DTEND;TZID=Asia/Kolkata:20150614T200000
DTSTAMP:20260424T051839
CREATED:20150423T065731Z
LAST-MODIFIED:20150423T065731Z
UID:1102-1434268800-1434312000@www.sliceofhealth.in
SUMMARY:World Blood Donor Day
DESCRIPTION:The theme of this year’s campaign is “Thank you for saving my life”. \nIt focuses on thanking blood donors who save lives every day through their blood donations and strongly encourages more people all over the world to donate blood voluntarily and regularly with the slogan “Give freely\, give often. Blood donation matters.”
URL:https://www.sliceofhealth.in/event/world-blood-donor-day-2/
END:VEVENT
BEGIN:VEVENT
DTSTART;TZID=Asia/Kolkata:20150531T080000
DTEND;TZID=Asia/Kolkata:20150531T210000
DTSTAMP:20260424T051839
CREATED:20150423T065536Z
LAST-MODIFIED:20150423T065536Z
UID:1101-1433059200-1433106000@www.sliceofhealth.in
SUMMARY:World No Tobacco Day
DESCRIPTION:World No Tobacco Day (WNTD) is observed around the world every year on May 31. It is intended to encourage a 24-hour period of abstinence from all forms of tobacco consumption around the globe.
URL:https://www.sliceofhealth.in/event/world-no-tobacco-day-2/
END:VEVENT
BEGIN:VEVENT
DTSTART;TZID=Asia/Kolkata:20150425T080000
DTEND;TZID=Asia/Kolkata:20150425T170000
DTSTAMP:20260424T051839
CREATED:20150423T064938Z
LAST-MODIFIED:20150423T065024Z
UID:1100-1429948800-1429981200@www.sliceofhealth.in
SUMMARY:World Malaria Day
DESCRIPTION:On April 25th people across the globe take part in a wide range of activities to mark World Malaria Day.A day to keep up the fight against this killer disease.
URL:https://www.sliceofhealth.in/event/world-malaria-day/
END:VEVENT
BEGIN:VEVENT
DTSTART;TZID=Asia/Kolkata:20150424T080000
DTEND;TZID=Asia/Kolkata:20150430T170000
DTSTAMP:20260424T051839
CREATED:20150423T064605Z
LAST-MODIFIED:20150423T064605Z
UID:1099-1429862400-1430413200@www.sliceofhealth.in
SUMMARY:World Immunization Week
DESCRIPTION:World Immunization Week\, celebrated in the last week of April\, aims to promote the use of vaccines to protect people of all ages against disease. Immunization is widely recognized as one of the most successful and cost-effective health interventions. It prevents between 2 million and 3 million deaths every year and now protects children not only against diseases for which vaccines have been available for many years\, such as diphtheria\, tetanus\, polio and measles\, but also against diseases such as pneumonia and rotavirus diarrhea\, two of the biggest killers of children under 5. Now adolescents and adults can be protected against life-threatening diseases such as influenza\, meningitis\, and cancers (cervical and liver)\, thanks to new and sophisticated vaccines.
URL:https://www.sliceofhealth.in/event/world-immunization-week/
END:VEVENT
BEGIN:VEVENT
DTSTART;TZID=Asia/Kolkata:20150304T080000
DTEND;TZID=Asia/Kolkata:20150304T170000
DTSTAMP:20260424T051839
CREATED:20150324T102237Z
LAST-MODIFIED:20150304T102334Z
UID:892-1425456000-1425488400@www.sliceofhealth.in
SUMMARY:World Tuberculosis Day
DESCRIPTION:World Tuberculosis Day\, falling on March 24 each year\, is designed to build public awareness about the global epidemic oftuberculosis (TB) and efforts to eliminate the disease. In 2012\, 8.6 million people fell ill with TB\, and 1.3 million died from the disease\, mostly in the Third World. The World TB Day theme for 2015 will be “Reach\, Treat\, Cure Everyone”.
URL:https://www.sliceofhealth.in/event/world-tuberculosis-day/
END:VEVENT
BEGIN:VEVENT
DTSTART;TZID=Asia/Kolkata:20150304T080000
DTEND;TZID=Asia/Kolkata:20150304T170000
DTSTAMP:20260424T051839
CREATED:20150312T093804Z
LAST-MODIFIED:20150304T102456Z
UID:890-1425456000-1425488400@www.sliceofhealth.in
SUMMARY:World Kidney Day
DESCRIPTION:
URL:https://www.sliceofhealth.in/event/world-kidney-day/
ATTACH;FMTTYPE=image/jpeg:https://www.sliceofhealth.in/wp-content/uploads/2015/03/world-kidney-day.jpg
END:VEVENT
BEGIN:VEVENT
DTSTART;VALUE=DATE:20141203
DTEND;VALUE=DATE:20141204
DTSTAMP:20260424T051839
CREATED:20141204T105652Z
LAST-MODIFIED:20141204T105652Z
UID:655-1417564800-1417651199@www.sliceofhealth.in
SUMMARY:Disability Day
DESCRIPTION:
URL:https://www.sliceofhealth.in/event/disability-day/
END:VEVENT
BEGIN:VEVENT
DTSTART;VALUE=DATE:20141203
DTEND;VALUE=DATE:20141204
DTSTAMP:20260424T051839
CREATED:20141203T055403Z
LAST-MODIFIED:20141203T055403Z
UID:649-1417564800-1417651199@www.sliceofhealth.in
SUMMARY:World Disability Day
DESCRIPTION:Today is International Day of Persons with Disabilities. According to the world report on disability\, produced jointly by WHO and the World Bank\, more than a billion people in the world today experience disability. People with disabilities have generally poorer health\, lower education achievements\, fewer economic opportunities and higher rates of poverty than people without disabilities because of many obstacles they face in their everyday lives. The report provides the best available evidence about what works to overcome barriers to health care\, rehabilitation\, education\, employment\, and support services\, and to create the environments which will enable people with disabilities to flourish.In his message the Secretary General of United Nations\, Mr Ban Ki-moon said\, Persons with disabilities have a significant positive impact on society\, and their contributions can be even greater if we remove barriers to their participation. With more than one billion persons with disabilities in our world today\, this is more important than ever.There has been a drastic change in the policy level to look at the issue of disability in the recent decades. Previously\, disability was only considered as a clinical issue and was dealt with medical understanding. However\, nowadays it is more of an issue which needs in-depth social understanding. As stated by WHO\, about 15 percent of the worlds population is disabled which is higher than the figure mentioned as 10 percent in 1970s. That tells us that the prevalence of disability is high and growing.There are many definitions of disability. The Convention on the Rights of Persons with Disabilities states that disability is an evolving concept and results from the interaction between persons with impairments and attitudinal and environmental barriers that hinders their full and effective participation in society on an equal basis with others. Globally\, the most common causes of disability include: chronic diseases (e.g. diabetes\, cardiovascular disease and cancer); injuries (e.g. due to road traffic accidents\, conflicts\, falls and landmines); mental health problems; birth defects; malnutrition; and HIV/AIDS and other communicable diseases. It is alarming that an estimated 80 percent of persons with disabilities live in developing countries.Disability is less of a burden for the sake of its nature; its more of a burden as the society often brings a stigma out of it. Salma Begum\, mother of a disabled child describes about her day to day life\, I usually take care of my son; other members of my family help as well. Besides me\, my husband\, my mother-in-law\, my grandmother-in-law and my aunt-in-law also take care of my son. Sometimes when I am busy\, they even clean him up after defecation. It is very difficult for me to do any kind of work with my son. I have to keep him with someone if I need to work. But sometimes theres no one to keep him. So it is quite difficult for me. The neighbours never help in taking care of the baby. They feel pity for us for having a disabled child. My mother-in-law and the neighbours say that my son has become disabled because I missed one vaccine during pregnancy. Actually I have taken all necessary vaccines. I got one vaccine when I was visiting my parents house\, but they dont believe me. I feel sad that I have a disabled child. If he were healthy\, he could walk. Then I could take him to different places. I cant do that now. It is very painful for me. If my son recovers\, I will educate him. His grandfather says if he gets well\, hell set up a shop for my son so that he can earn his livelihood.Thus though there are frustrations around a disabled kid among the parents\, neighbours there is still no reason why these kids cant grow up like others in society. The govt has a strong role to play to mainstream education\, health and other facilities for the persons with disabilities. Disability has strong association with poverty. Lower income countries have a higher prevalence of disability than higher income countries. Similarly\, disability is predominant in rural areas than in urban areas. Lack of medical facilities\, inadequate insurance policy\, dogmatic social values and weakening social security policies lead persons with disabilities towards poverty. It can be said that poverty and disability are inescapably associated. People\, who are poor\, seem to be more susceptible to disability than others. Poverty thus appears to be both cause and consequence of disability\, underpinning each other through escalation of vulnerability and exclusion. 
URL:https://www.sliceofhealth.in/event/world-disability-day/
ATTACH;FMTTYPE=image/jpeg:https://www.sliceofhealth.in/wp-content/uploads/2014/12/image_337_71922.jpg
END:VEVENT
BEGIN:VEVENT
DTSTART;VALUE=DATE:20141201
DTEND;VALUE=DATE:20141202
DTSTAMP:20260424T051839
CREATED:20141204T105451Z
LAST-MODIFIED:20141204T105451Z
UID:654-1417392000-1417478399@www.sliceofhealth.in
SUMMARY:World Aids Day
DESCRIPTION:
URL:https://www.sliceofhealth.in/event/world-aids-day/
END:VEVENT
BEGIN:VEVENT
DTSTART;VALUE=DATE:20140928
DTEND;VALUE=DATE:20140929
DTSTAMP:20260424T051839
CREATED:20140529T013246Z
LAST-MODIFIED:20140529T013246Z
UID:156-1411862400-1411948799@www.sliceofhealth.in
SUMMARY:World Heart Day
DESCRIPTION:World Heart Day
URL:https://www.sliceofhealth.in/event/world-heart-day/
END:VEVENT
BEGIN:VEVENT
DTSTART;VALUE=DATE:20140921
DTEND;VALUE=DATE:20140922
DTSTAMP:20260424T051839
CREATED:20140529T013153Z
LAST-MODIFIED:20140529T013153Z
UID:155-1411257600-1411343999@www.sliceofhealth.in
SUMMARY:World Alzheimer's Day
DESCRIPTION:World Alzheimer’s Day
URL:https://www.sliceofhealth.in/event/world-alzheimers-day/
END:VEVENT
END:VCALENDAR